BEGIN:VCALENDAR
VERSION:2.0
PRODID:-//IWW Österreich - ECPv6.2.0.1//NONSGML v1.0//EN
CALSCALE:GREGORIAN
METHOD:PUBLISH
X-WR-CALNAME:IWW Österreich
X-ORIGINAL-URL:https://www.iww.or.at
X-WR-CALDESC:Veranstaltungen für IWW Österreich
REFRESH-INTERVAL;VALUE=DURATION:PT1H
X-Robots-Tag:noindex
X-PUBLISHED-TTL:PT1H
BEGIN:VTIMEZONE
TZID:Europe/Paris
BEGIN:DAYLIGHT
TZOFFSETFROM:+0100
TZOFFSETTO:+0200
TZNAME:CEST
DTSTART:20260329T010000
END:DAYLIGHT
BEGIN:STANDARD
TZOFFSETFROM:+0200
TZOFFSETTO:+0100
TZNAME:CET
DTSTART:20261025T010000
END:STANDARD
END:VTIMEZONE
BEGIN:VEVENT
DTSTART;TZID=Europe/Paris:20260505T180000
DTEND;TZID=Europe/Paris:20260505T200000
DTSTAMP:20260421T151226
CREATED:20260128T090628Z
LAST-MODIFIED:20260308T151136Z
UID:15160-1778004000-1778011200@www.iww.or.at
SUMMARY:[:de]Wien: Offenes Organizing Treffen[:]
DESCRIPTION:Wir laden euch herzlich zum offenen Organizing Treffen der IWW in Wien ein. Kommt vorbei\, wenn ihr Lust habt\, über die Organisierung in unseren Betrieben zu sprechen und Erfahrungen auszutauschen.\n\nWie geht es uns in der Arbeit? Wie kommen wir darüber mit Kolleg*innen ins Gespräch? Wie können wir uns mit ihnen gemeinsam organisieren\, um unsere Situation zu verbessern? Wie können wir eine Betriebsgruppe aufbauen? Welche Methoden funktionieren in unseren Betrieben und welche nicht? Was können wir aus Fehlern lernen und in Zukunft besser machen?\nAuf diese und viele andere Fragen versuchen wir\, im lockeren Rahmen gemeinsam Antworten zu finden.\n\nDas offene Organizing Treffen findet jeden ersten Dienstag im Monat ab 18 Uhr statt und ist offen für alle Interessierten\, egal ob IWW-Mitglied oder nicht.
URL:https://www.iww.or.at/event/wien-offenes-organizing-treffen/
LOCATION:VolxClub Ottakring\, Familienplatz 6\, Wien\, 1160
ORGANIZER;CN="IWW%20Wien":MAILTO:wien@iww.or.at
END:VEVENT
BEGIN:VEVENT
DTSTART;TZID=Europe/Paris:20260602T180000
DTEND;TZID=Europe/Paris:20260602T200000
DTSTAMP:20260421T151226
CREATED:20230922T091055Z
LAST-MODIFIED:20260308T151214Z
UID:10177-1780423200-1780430400@www.iww.or.at
SUMMARY:[:de]Wien: Offenes Organizing Treffen[:]
DESCRIPTION:Wir laden euch herzlich zum offenen Organizing Treffen der IWW in Wien ein. Kommt vorbei\, wenn ihr Lust habt\, über die Organisierung in unseren Betrieben zu sprechen und Erfahrungen auszutauschen.\n\nWie geht es uns in der Arbeit? Wie kommen wir darüber mit Kolleg*innen ins Gespräch? Wie können wir uns mit ihnen gemeinsam organisieren\, um unsere Situation zu verbessern? Wie können wir eine Betriebsgruppe aufbauen? Welche Methoden funktionieren in unseren Betrieben und welche nicht? Was können wir aus Fehlern lernen und in Zukunft besser machen?\nAuf diese und viele andere Fragen versuchen wir\, im lockeren Rahmen gemeinsam Antworten zu finden.\n\nDas offene Organizing Treffen findet jeden ersten Dienstag im Monat ab 18 Uhr statt und ist offen für alle Interessierten\, egal ob IWW-Mitglied oder nicht.
URL:https://www.iww.or.at/event/wien-offenes-organizing-treffen-2/
LOCATION:VolxClub Ottakring\, Familienplatz 6\, Wien\, 1160
CATEGORIES:Organizing
ORGANIZER;CN="IWW%20Wien":MAILTO:wien@iww.or.at
END:VEVENT
END:VCALENDAR